BEGIN:VCALENDAR
VERSION:2.0
PRODID:-//Heart &amp; Mind Edu - ECPv6.11.2//NONSGML v1.0//EN
CALSCALE:GREGORIAN
METHOD:PUBLISH
X-WR-CALNAME:Heart &amp; Mind Edu
X-ORIGINAL-URL:https://heartandmind.edu.vn
X-WR-CALDESC:Events for Heart &amp; Mind Edu
REFRESH-INTERVAL;VALUE=DURATION:PT1H
X-Robots-Tag:noindex
X-PUBLISHED-TTL:PT1H
BEGIN:VTIMEZONE
TZID:Asia/Ho_Chi_Minh
BEGIN:STANDARD
TZOFFSETFROM:+0700
TZOFFSETTO:+0700
TZNAME:+07
DTSTART:20250101T000000
END:STANDARD
END:VTIMEZONE
BEGIN:VEVENT
DTSTART;TZID=Asia/Ho_Chi_Minh:20250508T080000
DTEND;TZID=Asia/Ho_Chi_Minh:20250508T170000
DTSTAMP:20260423T184340
CREATED:20250508T162629Z
LAST-MODIFIED:20250508T162629Z
UID:1793-1746691200-1746723600@heartandmind.edu.vn
SUMMARY:Cả nhà vui khỏe cùng SEE Learning
DESCRIPTION:Làm sao để nhà mình luôn khoẻ\, nụ cười luôn tươi?\nChúc mừng Ngày Sức khỏe tâm thần thế giới 10/10\, SEE Learning Việt Nam – Heart & Mind Education hân hạnh chào đón cộng đồng\, đặc biệt là các bậc cha mẹ và người chăm dưỡng trẻ\, cùng tham gia sự kiện chăm sóc thân tâm trí khỏe mạnh.\nHội thảo được dẫn dắt bởi các điều phối viên SEE Learning bậc 1 sẽ được Trung Tâm Trắc Ẩn Đại học EMORY đào tạo\, gồm các nội dung như sau:\n1. Hoạt động vòng tròn – Trò chơi kết nối qua nghệ thuật\n2. Thực hành lắng nghe chú tâm\n3. Tìm hiểu cách xây dựng thoả thuận gia đình hoà ái\nHội thảo mở ra không gian an toàn để bạn kết nối với niềm vui\, với mọi người\, với những nhu cầu bên trong dành cho gia đình. Từ đó\, ta biết cách cùng nhau mở ra không gian đối thoại bình yên\, nơi mọi ý kiến được đón nhận và cùng nhau xây dựng một mái ấm yêu thương.\n– Thời gian: 9:00-11:30AM\, Chủ nhật ngày 13/10\n– Địa điểm: trường mầm non EIJIKO Kindergarten – Chung cư Xi Grand Court\, 256-258 Lý Thường Kiệt\, quận 10\, TPHCM\n🌻 Phí tham gia: Ngoài teabreak và học liệu thực hành\, mời mọi người tham gia với tinh thần “Pay It Forward” (Đáp đền tiếp nối)\, đóng góp vào quỹ SEE Learning Vietnam với 3 mức:\n🍀 Ươm mầm: 100.000 VND\n🍀 Đồng hành: 150.000 VND\n🍀 Chăm dưỡng: 200.000 VND\nĐăng ký ngay để chăm sóc sức khỏe tâm thần gia đình khỏe mạnh!\n👉 Quét mã QR hoặc đăng ký qua link bên dưới bình luận.\n—\nHeart & Mind Edu – make it shine\, make it bright\n#HeartandMindEdu #HME #SEELearningVietnam #Educatingtheheartandmind #Hoithao
URL:https://heartandmind.edu.vn/event/ca-nha-vui-khoe-cung-see-learning/
LOCATION:EIJIKO KINDERGARTEN\, 1/205A Hẻm 156 Đường Số 2\, Phường Tăng Nhơn Phú B\, Thủ Đức\, Hồ Chí Minh\, Viet Nam
ORGANIZER;CN="Heart and Mind Edu":MAILTO:info@heartandmind.edu.vn
END:VEVENT
END:VCALENDAR