BEGIN:VCALENDAR
VERSION:2.0
PRODID:-//Heart &amp; Mind Edu - ECPv6.11.2//NONSGML v1.0//EN
CALSCALE:GREGORIAN
METHOD:PUBLISH
X-WR-CALNAME:Heart &amp; Mind Edu
X-ORIGINAL-URL:https://heartandmind.edu.vn
X-WR-CALDESC:Events for Heart &amp; Mind Edu
REFRESH-INTERVAL;VALUE=DURATION:PT1H
X-Robots-Tag:noindex
X-PUBLISHED-TTL:PT1H
BEGIN:VTIMEZONE
TZID:Asia/Ho_Chi_Minh
BEGIN:STANDARD
TZOFFSETFROM:+0700
TZOFFSETTO:+0700
TZNAME:+07
DTSTART:20250101T000000
END:STANDARD
END:VTIMEZONE
BEGIN:VEVENT
DTSTART;TZID=Asia/Ho_Chi_Minh:20250405T080000
DTEND;TZID=Asia/Ho_Chi_Minh:20250405T170000
DTSTAMP:20260423T184648
CREATED:20250509T115052Z
LAST-MODIFIED:20250509T115052Z
UID:1813-1743840000-1743872400@heartandmind.edu.vn
SUMMARY:CBCT RETREAT – ĐÀO TẠO NÂNG CAO LÒNG TRẮC ẨN DỰA TRÊN NHẬN THỨC
DESCRIPTION: CBCT RETREAT – ĐÀO TẠO NÂNG CAO LÒNG TRẮC ẨN DỰA TRÊN NHẬN THỨC\nLàm sao để thương đủ\, thương đúng\, thương trọn vẹn chính mình và người khác? Mời bạn\, những người mong muốn nuôi dưỡng lòng trắc ẩn một cách sâu sắc và bền vững\, tham dự CBCT RETREAT – khoá thực tập lòng trắc ẩn dựa trên nhận thức 4N3D.\n𝗖𝗕𝗖𝗧® — 𝗖𝗼𝗴𝗻𝗶𝘁𝗶𝘃𝗲𝗹𝘆-𝗕𝗮𝘀𝗲𝗱 𝗖𝗼𝗺𝗽𝗮𝘀𝘀𝗶𝗼𝗻 𝗧𝗿𝗮𝗶𝗻𝗶𝗻𝗴\n Retreat là cơ hội hiếm có tại Việt Nam bởi sự dẫn dắt trực tiếp từ 𝑮𝒊𝒂́𝒐 𝒔𝒖̛ 𝑳𝒐𝒃𝒔𝒂𝒏𝒈 𝑵𝒆𝒈𝒊 – Nhà sáng lập chương trình CBCT và 𝑻𝒉𝒂̂̀𝒚 𝑻𝒔𝒐𝒏𝒅𝒖𝒆 𝑺𝒂𝒎𝒑𝒉𝒆𝒍 từ Emory Compassion Center.\nHeart & Mind Education\, đại diện SEE Learning Vietnam\, hân hạnh đồng tổ chức cùng SEE Learning Singapore.\n CBCT không chỉ là một phương pháp\, mà là một hành trình – giúp xây dựng khả năng thấu cảm\, chăm sóc bản thân và kết nối sâu sắc với người khác\, dựa trên nền tảng khoa học thần kinh và trí tuệ từ bi.\n Vì sao không thể bỏ lỡ? Trải nghiệm retreat chuyên sâu\, rèn luyện lòng trắc ẩn trong không gian tĩnh lặng Học trực tiếp từ Giáo sư Lobsang Negi và Thầy Tsondue Samphel\, một trong những chuyên gia hàng đầu thế giới về đào tạo lòng trắc ẩn Áp dụng CBCT vào thực tế cuộc sống và công việc\, cải thiện sức khỏe tinh thần và nâng cao chất lượng mối quan hệ Hoàn thành khóa CBCT retreat là một trong những điều kiện bắt buộc để trở thành Giảng viên CBCT®\n Điều kiện tham gia:– Bạn đã hoàn thành Khóa học Nền tảng CBCT® hoặc– Bạn đã nộp đơn vào Chương trình Đào tạo Giảng viên CBCT® của Emory.\n Link đăng ký retreat: bit.ly/4h4S9vC\nMọi thắc mắc liên hệ HME để được hỗ trợ thông tin và đăng ký!\n\n\n———————-𝗖𝗕𝗖𝗧® — 𝗖𝗼𝗴𝗻𝗶𝘁𝗶𝘃𝗲𝗹𝘆-𝗕𝗮𝘀𝗲𝗱 𝗖𝗼𝗺𝗽𝗮𝘀𝘀𝗶𝗼𝗻 𝗧𝗿𝗮𝗶𝗻𝗶𝗻𝗴Chương trình CBCT® – Đào tạo Lòng trắc ẩn Dựa trên Nhận thức – được phát triển bởi Emory Compassion Center\, Đại học Emory\, Hoa Kỳ.\n CBCT® là một hệ thống các thực hành chiêm nghiệm được thiết kế để tăng cường và duy trì lòng trắc ẩn.Đây là một phương pháp tiếp cận dựa trên nghiên cứu để nuôi dưỡng lòng trắc ẩn một cách bền vững.\n Các khóa học CBCT® hiện có:– Các khóa học nền tảng: dành cho công chúng– Các khóa học dành cho sinh viên Đại học Emory– Các khóa học dành cho giảng viên và nhân viên Trường Y khoa Đại học Emory– Khoá đào tạo Giảng viên CBCT\n Thông tin chính:– Chương trình dựa trên nghiên cứu và nhằm mục đích thúc đẩy sự an lạc cá nhân và cộng đồng.– Chương trình bao gồm đào tạo các kỹ năng như tự nhận thức\, điều chỉnh sự chú ý và phát triển góc nhìn rộng hơn.– Chương trình liên tục được phát triển và mở rộng.\n Tìm hiểu thêm về các khóa học CBCT: https://compassion.emory.edu/cbc…/cbct-courses/public.html
URL:https://heartandmind.edu.vn/event/cbct-retreat-dao-tao-nang-cao-long-trac-an-dua-tren-nhan-thuc/
ORGANIZER;CN="Heart and Mind Edu":MAILTO:info@heartandmind.edu.vn
END:VEVENT
END:VCALENDAR