BEGIN:VCALENDAR
VERSION:2.0
PRODID:-//Heart &amp; Mind Edu - ECPv6.11.2//NONSGML v1.0//EN
CALSCALE:GREGORIAN
METHOD:PUBLISH
X-WR-CALNAME:Heart &amp; Mind Edu
X-ORIGINAL-URL:https://heartandmind.edu.vn
X-WR-CALDESC:Events for Heart &amp; Mind Edu
REFRESH-INTERVAL;VALUE=DURATION:PT1H
X-Robots-Tag:noindex
X-PUBLISHED-TTL:PT1H
BEGIN:VTIMEZONE
TZID:Asia/Ho_Chi_Minh
BEGIN:STANDARD
TZOFFSETFROM:+0700
TZOFFSETTO:+0700
TZNAME:+07
DTSTART:20240101T000000
END:STANDARD
END:VTIMEZONE
BEGIN:VEVENT
DTSTART;TZID=Asia/Ho_Chi_Minh:20241011T190000
DTEND;TZID=Asia/Ho_Chi_Minh:20241011T210000
DTSTAMP:20260423T184436
CREATED:20250508T150501Z
LAST-MODIFIED:20250508T150501Z
UID:1785-1728673200-1728680400@heartandmind.edu.vn
SUMMARY:Cùng SEE Learning phát triển năng lực phục hồi
DESCRIPTION:Chúc mừng “Sức khỏe tâm thần thế giới ngày 10/10”\, SEE Learning Việt Nam – HME hân hạnh chào đón cộng đồng cùng tham gia sự kiện chăm sóc thân tâm trí khỏe mạnh với sự điều phối SEE Learning được Trung Tâm Trắc Ẩn Đại học EMORY đào tạo:\nHội thảo trực tuyến chủ đề “Cùng SEE Learning phát triển năng lực phục hồi cân bằng”Thời gian: 7:00 – 9:00PM\, ngày 11/10Nội dung: Phát triển khả năng phục hồi\, quay về trạng thái cân bằngPhí tham gia: Miễn phí\nĐăng ký ngay để chăm sóc sức khỏe tâm thần gia đình khỏe mạnh! Quét mã QR hoặc đăng ký qua link bên dưới bình luận.—Heart & Mind Edu – make it shine\, make it bright#HeartandMindEdu #HME #SEELearningVietnam #Educatingtheheartandmind #Hoithao
URL:https://heartandmind.edu.vn/event/cung-see-learning-phat-trien-nang-luc-phuc-hoi/
ORGANIZER;CN="Heart and Mind Edu":MAILTO:info@heartandmind.edu.vn
END:VEVENT
END:VCALENDAR